BEGIN:VCALENDAR
VERSION:2.0
PRODID:-//NAACP Washington PA - ECPv6.15.20//NONSGML v1.0//EN
CALSCALE:GREGORIAN
METHOD:PUBLISH
X-WR-CALNAME:NAACP Washington PA
X-ORIGINAL-URL:https://naacpwashpa.org
X-WR-CALDESC:Events for NAACP Washington PA
REFRESH-INTERVAL;VALUE=DURATION:PT1H
X-Robots-Tag:noindex
X-PUBLISHED-TTL:PT1H
BEGIN:VTIMEZONE
TZID:UTC
BEGIN:STANDARD
TZOFFSETFROM:+0000
TZOFFSETTO:+0000
TZNAME:UTC
DTSTART:20180101T000000
END:STANDARD
END:VTIMEZONE
BEGIN:VEVENT
DTSTART;TZID=UTC:20231011T190000
DTEND;TZID=UTC:20231011T210000
DTSTAMP:20260424T162515
CREATED:20231001T212201Z
LAST-MODIFIED:20231001T212201Z
UID:3936-1697050800-1697058000@naacpwashpa.org
SUMMARY:Candidates Forum
DESCRIPTION:
URL:https://naacpwashpa.org/event/candidates-forum-2/
LOCATION:Lemoyne Center\, 200 Forrest Avenue\, Washington\, PA\, 15301\, United States
ORGANIZER;CN="NAACP":MAILTO:naacp.washington.pa@gmail.com
END:VEVENT
BEGIN:VEVENT
DTSTART;TZID=UTC:20230617T103000
DTEND;TZID=UTC:20230617T180000
DTSTAMP:20260424T162515
CREATED:20230513T204610Z
LAST-MODIFIED:20230513T204610Z
UID:3726-1686997800-1687024800@naacpwashpa.org
SUMMARY:Juneteenth Celebration
DESCRIPTION:
URL:https://naacpwashpa.org/event/juneteenth-celebration/
LOCATION:Lemoyne Center\, 200 Forrest Avenue\, Washington\, PA\, 15301\, United States
ORGANIZER;CN="NAACP":MAILTO:naacp.washington.pa@gmail.com
END:VEVENT
BEGIN:VEVENT
DTSTART;TZID=UTC:20230115T160000
DTEND;TZID=UTC:20230115T180000
DTSTAMP:20260424T162515
CREATED:20221212T180653Z
LAST-MODIFIED:20221212T180653Z
UID:3415-1673798400-1673805600@naacpwashpa.org
SUMMARY:Martin Luther King Birthday Celebration
DESCRIPTION:
URL:https://naacpwashpa.org/event/martin-luther-king-birthday-celebration/
LOCATION:Mt Olive Baptist Church\, Canonsburg\, PA\, 15307\, United States
ORGANIZER;CN="NAACP":MAILTO:naacp.washington.pa@gmail.com
END:VEVENT
BEGIN:VEVENT
DTSTART;TZID=UTC:20220915T190000
DTEND;TZID=UTC:20220915T200000
DTSTAMP:20260424T162515
CREATED:20220817T215537Z
LAST-MODIFIED:20220817T215537Z
UID:3347-1663268400-1663272000@naacpwashpa.org
SUMMARY:NAACP General Body Meeting
DESCRIPTION:
URL:https://naacpwashpa.org/event/naacp-general-body-meeting-9/
LOCATION:St Paul AME Church\, 16 Ridge Avenue\, Washington\, PA\, 15301\, United States
ORGANIZER;CN="NAACP":MAILTO:naacp.washington.pa@gmail.com
END:VEVENT
BEGIN:VEVENT
DTSTART;TZID=UTC:20220519T190000
DTEND;TZID=UTC:20220519T200000
DTSTAMP:20260424T162515
CREATED:20220508T203327Z
LAST-MODIFIED:20220508T203327Z
UID:3284-1652986800-1652990400@naacpwashpa.org
SUMMARY:NAACP General Body Meeting
DESCRIPTION:
URL:https://naacpwashpa.org/event/naacp-general-body-meeting-8/
LOCATION:Virtual Zoom Event
ORGANIZER;CN="NAACP":MAILTO:naacp.washington.pa@gmail.com
END:VEVENT
BEGIN:VEVENT
DTSTART;TZID=UTC:20220506T180000
DTEND;TZID=UTC:20220506T200000
DTSTAMP:20260424T162515
CREATED:20220321T183621Z
LAST-MODIFIED:20220321T183621Z
UID:3230-1651860000-1651867200@naacpwashpa.org
SUMMARY:NAACP Human Rights Award Banquet
DESCRIPTION:
URL:https://naacpwashpa.org/event/naacp-human-rights-award-banquet/
LOCATION:Doubletree Hotel\, Racetrack Road\, Washington\, PA\, 15301\, United States
ORGANIZER;CN="NAACP":MAILTO:naacp.washington.pa@gmail.com
END:VEVENT
BEGIN:VEVENT
DTSTART;TZID=UTC:20220421T190000
DTEND;TZID=UTC:20220421T190000
DTSTAMP:20260424T162515
CREATED:20220321T183311Z
LAST-MODIFIED:20220321T183311Z
UID:3228-1650567600-1650567600@naacpwashpa.org
SUMMARY:NAACP General Body Meeting
DESCRIPTION:
URL:https://naacpwashpa.org/event/naacp-general-body-meeting-7/
LOCATION:Virtual Zoom Event
ORGANIZER;CN="NAACP":MAILTO:naacp.washington.pa@gmail.com
END:VEVENT
BEGIN:VEVENT
DTSTART;TZID=UTC:20220420T183000
DTEND;TZID=UTC:20220420T200000
DTSTAMP:20260424T162515
CREATED:20220223T200756Z
LAST-MODIFIED:20220223T200756Z
UID:3192-1650479400-1650484800@naacpwashpa.org
SUMMARY:NAACP CPR Training
DESCRIPTION:Only 10 people can attend
URL:https://naacpwashpa.org/event/naacp-cpr-training/
LOCATION:68 Highland Ave
ORGANIZER;CN="NAACP":MAILTO:naacp.washington.pa@gmail.com
END:VEVENT
BEGIN:VEVENT
DTSTART;TZID=UTC:20220401T110000
DTEND;TZID=UTC:20220401T190000
DTSTAMP:20260424T162515
CREATED:20220223T200503Z
LAST-MODIFIED:20220223T200503Z
UID:3189-1648810800-1648839600@naacpwashpa.org
SUMMARY:NAACP Table at Community Days
DESCRIPTION:
URL:https://naacpwashpa.org/event/naacp-table-at-community-days/
LOCATION:Washington Crown Center\, 1500 West Chestnut Street\, Washington\, PA\, 15301\, United States
ORGANIZER;CN="NAACP":MAILTO:naacp.washington.pa@gmail.com
END:VEVENT
BEGIN:VEVENT
DTSTART;TZID=UTC:20220120T190000
DTEND;TZID=UTC:20220120T200000
DTSTAMP:20260424T162515
CREATED:20220118T230247Z
LAST-MODIFIED:20220118T230247Z
UID:2946-1642705200-1642708800@naacpwashpa.org
SUMMARY:NAACP General Body Meeting
DESCRIPTION:
URL:https://naacpwashpa.org/event/naacp-general-body-meeting-6/
LOCATION:Virtual Zoom Event
ORGANIZER;CN="NAACP":MAILTO:naacp.washington.pa@gmail.com
END:VEVENT
BEGIN:VEVENT
DTSTART;TZID=UTC:20220116T160000
DTEND;TZID=UTC:20220116T180000
DTSTAMP:20260424T162515
CREATED:20211211T185931Z
LAST-MODIFIED:20211211T185931Z
UID:2753-1642348800-1642356000@naacpwashpa.org
SUMMARY:Martin Luther King Celebration
DESCRIPTION:
URL:https://naacpwashpa.org/event/martin-luther-king-celebration/
LOCATION:Virtual Zoom Event
ORGANIZER;CN="NAACP":MAILTO:naacp.washington.pa@gmail.com
END:VEVENT
BEGIN:VEVENT
DTSTART;TZID=UTC:20211118T190000
DTEND;TZID=UTC:20211118T200000
DTSTAMP:20260424T162515
CREATED:20211115T223416Z
LAST-MODIFIED:20211115T223416Z
UID:2743-1637262000-1637265600@naacpwashpa.org
SUMMARY:NAACP General Body meeting
DESCRIPTION:
URL:https://naacpwashpa.org/event/naacp-general-body-meeting-5/
LOCATION:Virtual Zoom Event
ORGANIZER;CN="NAACP":MAILTO:naacp.washington.pa@gmail.com
END:VEVENT
BEGIN:VEVENT
DTSTART;VALUE=DATE:20211022
DTEND;VALUE=DATE:20211024
DTSTAMP:20260424T162515
CREATED:20211013T181636Z
LAST-MODIFIED:20211013T181636Z
UID:2688-1634860800-1635033599@naacpwashpa.org
SUMMARY:NAACP PA State Conference Convention
DESCRIPTION:
URL:https://naacpwashpa.org/event/naacp-pa-state-conference-convention/
LOCATION:Virtual Zoom Event
ORGANIZER;CN="NAACP":MAILTO:naacp.washington.pa@gmail.com
END:VEVENT
BEGIN:VEVENT
DTSTART;TZID=UTC:20211021T190000
DTEND;TZID=UTC:20211021T200000
DTSTAMP:20260424T162515
CREATED:20210921T211909Z
LAST-MODIFIED:20210921T211909Z
UID:2644-1634842800-1634846400@naacpwashpa.org
SUMMARY:NAACP General Body meeting
DESCRIPTION:
URL:https://naacpwashpa.org/event/naacp-general-body-meeting-4/
LOCATION:Virtual Zoom Event
END:VEVENT
BEGIN:VEVENT
DTSTART;TZID=UTC:20211020T190000
DTEND;TZID=UTC:20211020T210000
DTSTAMP:20260424T162515
CREATED:20211013T181318Z
LAST-MODIFIED:20211013T181318Z
UID:2686-1634756400-1634763600@naacpwashpa.org
SUMMARY:Candidates Forum
DESCRIPTION:
URL:https://naacpwashpa.org/event/candidates-forum/
LOCATION:Courthouse Square\, 100 W. Beau St.\, Washington\, PA\, 15301\, United States
ORGANIZER;CN="NAACP":MAILTO:naacp.washington.pa@gmail.com
END:VEVENT
BEGIN:VEVENT
DTSTART;TZID=UTC:20210916T190000
DTEND;TZID=UTC:20210916T200000
DTSTAMP:20260424T162515
CREATED:20210812T212923Z
LAST-MODIFIED:20210812T212923Z
UID:2606-1631818800-1631822400@naacpwashpa.org
SUMMARY:NAACP General Body Meeting
DESCRIPTION:
URL:https://naacpwashpa.org/event/naacp-general-body-meeting-3/
LOCATION:Virtual Zoom Event
ORGANIZER;CN="NAACP":MAILTO:naacp.washington.pa@gmail.com
END:VEVENT
BEGIN:VEVENT
DTSTART;TZID=UTC:20210821T093000
DTEND;TZID=UTC:20210821T110000
DTSTAMP:20260424T162515
CREATED:20210819T165354Z
LAST-MODIFIED:20210819T165354Z
UID:2608-1629538200-1629543600@naacpwashpa.org
SUMMARY:NAACP Third Quarterly Meeting of the PSC
DESCRIPTION:
URL:https://naacpwashpa.org/event/naacp-third-quarterly-meeting-of-the-psc/
LOCATION:Virtual Zoom Event
ORGANIZER;CN="NAACP":MAILTO:naacp.washington.pa@gmail.com
END:VEVENT
BEGIN:VEVENT
DTSTART;TZID=UTC:20210707T090000
DTEND;TZID=UTC:20210714T210000
DTSTAMP:20260424T162515
CREATED:20210525T124803Z
LAST-MODIFIED:20210625T181010Z
UID:2520-1625648400-1626296400@naacpwashpa.org
SUMMARY:NAACP National Convention
DESCRIPTION:
URL:https://naacpwashpa.org/event/naacp-national-convention-2/
LOCATION:Virtual Zoom Event
ORGANIZER;CN="NAACP":MAILTO:naacp.washington.pa@gmail.com
END:VEVENT
BEGIN:VEVENT
DTSTART;TZID=UTC:20210703T100000
DTEND;TZID=UTC:20210703T120000
DTSTAMP:20260424T162515
CREATED:20210628T171941Z
LAST-MODIFIED:20210628T171941Z
UID:2592-1625306400-1625313600@naacpwashpa.org
SUMMARY:4th of July Parade
DESCRIPTION:
URL:https://naacpwashpa.org/event/4th-of-july-parade/
LOCATION:PA
END:VEVENT
BEGIN:VEVENT
DTSTART;TZID=UTC:20210618T180000
DTEND;TZID=UTC:20210618T200000
DTSTAMP:20260424T162515
CREATED:20210611T162021Z
LAST-MODIFIED:20210611T162021Z
UID:2547-1624039200-1624046400@naacpwashpa.org
SUMMARY:A JUNETEENTH AFFAIR: NAACP AND BLACKAPPALACHIACOALITIONPRESENTS: AFFRILACHIA BLACK INVISIBILITY
DESCRIPTION:
URL:https://naacpwashpa.org/event/a-juneteenth-affair-naacp-and-blackappalachiacoalitionpresents-affrilachia-black-invisibility/
LOCATION:Virtual Zoom Event
ORGANIZER;CN="NAACP":MAILTO:naacp.washington.pa@gmail.com
END:VEVENT
BEGIN:VEVENT
DTSTART;TZID=UTC:20210617T190000
DTEND;TZID=UTC:20210617T200000
DTSTAMP:20260424T162515
CREATED:20210525T122951Z
LAST-MODIFIED:20210525T122951Z
UID:2518-1623956400-1623960000@naacpwashpa.org
SUMMARY:NAACP General Body Meeting
DESCRIPTION:
URL:https://naacpwashpa.org/event/naacp-general-body-meeting-2/
LOCATION:Virtual Zoom Event
ORGANIZER;CN="NAACP":MAILTO:naacp.washington.pa@gmail.com
END:VEVENT
BEGIN:VEVENT
DTSTART;TZID=UTC:20210605T110000
DTEND;TZID=UTC:20210605T120000
DTSTAMP:20260424T162515
CREATED:20210514T175140Z
LAST-MODIFIED:20210514T175140Z
UID:2473-1622890800-1622894400@naacpwashpa.org
SUMMARY:NAACP Executive Committee Meeting
DESCRIPTION:
URL:https://naacpwashpa.org/event/naacp-executive-committee-meeting/
LOCATION:Virtual Zoom Event
ORGANIZER;CN="NAACP":MAILTO:naacp.washington.pa@gmail.com
END:VEVENT
BEGIN:VEVENT
DTSTART;TZID=UTC:20210520T190000
DTEND;TZID=UTC:20210520T200000
DTSTAMP:20260424T162515
CREATED:20210426T185155Z
LAST-MODIFIED:20210426T185155Z
UID:2396-1621537200-1621540800@naacpwashpa.org
SUMMARY:NAACP General Body Meeting
DESCRIPTION:
URL:https://naacpwashpa.org/event/naacp-general-body-meeting/
LOCATION:Virtual Zoom Event
ORGANIZER;CN="NAACP":MAILTO:naacp.washington.pa@gmail.com
END:VEVENT
BEGIN:VEVENT
DTSTART;TZID=UTC:20210513T190000
DTEND;TZID=UTC:20210513T200000
DTSTAMP:20260424T162515
CREATED:20210511T220856Z
LAST-MODIFIED:20210511T220856Z
UID:2470-1620932400-1620936000@naacpwashpa.org
SUMMARY:NAACP Executive Board Meeting
DESCRIPTION:
URL:https://naacpwashpa.org/event/naacp-executive-board-meeting/
LOCATION:Virtual Zoom Event
ORGANIZER;CN="NAACP":MAILTO:naacp.washington.pa@gmail.com
END:VEVENT
BEGIN:VEVENT
DTSTART;TZID=UTC:20210507T190000
DTEND;TZID=UTC:20210507T210000
DTSTAMP:20260424T162515
CREATED:20210426T184820Z
LAST-MODIFIED:20210426T184820Z
UID:2394-1620414000-1620421200@naacpwashpa.org
SUMMARY:Human Rights Award Program
DESCRIPTION:
URL:https://naacpwashpa.org/event/human-rights-award-program/
LOCATION:Virtual Zoom Event
ORGANIZER;CN="NAACP":MAILTO:naacp.washington.pa@gmail.com
END:VEVENT
BEGIN:VEVENT
DTSTART;TZID=UTC:20210117T160000
DTEND;TZID=UTC:20210117T173000
DTSTAMP:20260424T162515
CREATED:20201208T210129Z
LAST-MODIFIED:20201208T210129Z
UID:2091-1610899200-1610904600@naacpwashpa.org
SUMMARY:Martin Luther King\, Jr. Celebration
DESCRIPTION:
URL:https://naacpwashpa.org/event/martin-luther-king-jr-celebration/
LOCATION:Virtual Zoom Event
END:VEVENT
BEGIN:VEVENT
DTSTART;TZID=UTC:20201217T190000
DTEND;TZID=UTC:20201217T200000
DTSTAMP:20260424T162515
CREATED:20201208T160356Z
LAST-MODIFIED:20201208T160356Z
UID:2077-1608231600-1608235200@naacpwashpa.org
SUMMARY:NAACP Branch Meeting
DESCRIPTION:
URL:https://naacpwashpa.org/event/naacp-branch-meeting/
LOCATION:PA
ORGANIZER;CN="NAACP":MAILTO:naacp.washington.pa@gmail.com
END:VEVENT
BEGIN:VEVENT
DTSTART;TZID=UTC:20190919T193000
DTEND;TZID=UTC:20190919T203000
DTSTAMP:20260424T162515
CREATED:20190911T185044Z
LAST-MODIFIED:20190911T185044Z
UID:1625-1568921400-1568925000@naacpwashpa.org
SUMMARY:NAACP Monthly Meeting
DESCRIPTION:
URL:https://naacpwashpa.org/event/naacp-monthly-meeting-3/
LOCATION:68 Highland Ave
END:VEVENT
BEGIN:VEVENT
DTSTART;TZID=UTC:20190916T190000
DTEND;TZID=UTC:20190916T210000
DTSTAMP:20260424T162515
CREATED:20190911T185738Z
LAST-MODIFIED:20190911T185738Z
UID:1627-1568660400-1568667600@naacpwashpa.org
SUMMARY:NAACP Candidates Forum
DESCRIPTION:
URL:https://naacpwashpa.org/event/naacp-candidates-forum/
LOCATION:Courthouse Square\, 100 W. Beau St.\, Washington\, PA\, 15301\, United States
END:VEVENT
BEGIN:VEVENT
DTSTART;TZID=UTC:20190822T183000
DTEND;TZID=UTC:20190822T193000
DTSTAMP:20260424T162515
CREATED:20190717T184443Z
LAST-MODIFIED:20190717T184443Z
UID:1600-1566498600-1566502200@naacpwashpa.org
SUMMARY:Executive Committee Meeting
DESCRIPTION:
URL:https://naacpwashpa.org/event/executive-committee-meeting-2/
LOCATION:68 Highland Ave
END:VEVENT
END:VCALENDAR